BEGIN:VCALENDAR
VERSION:2.0
PRODID:-//Schreib- und B&uuml;chersalon - ECPv6.15.20//NONSGML v1.0//EN
CALSCALE:GREGORIAN
METHOD:PUBLISH
X-WR-CALNAME:Schreib- und B&uuml;chersalon
X-ORIGINAL-URL:https://schreib-salon.com
X-WR-CALDESC:Veranstaltungen für Schreib- und B&uuml;chersalon
REFRESH-INTERVAL;VALUE=DURATION:PT1H
X-Robots-Tag:noindex
X-PUBLISHED-TTL:PT1H
BEGIN:VTIMEZONE
TZID:Europe/Berlin
BEGIN:DAYLIGHT
TZOFFSETFROM:+0100
TZOFFSETTO:+0200
TZNAME:CEST
DTSTART:20240331T010000
END:DAYLIGHT
BEGIN:STANDARD
TZOFFSETFROM:+0200
TZOFFSETTO:+0100
TZNAME:CET
DTSTART:20241027T010000
END:STANDARD
BEGIN:DAYLIGHT
TZOFFSETFROM:+0100
TZOFFSETTO:+0200
TZNAME:CEST
DTSTART:20250330T010000
END:DAYLIGHT
BEGIN:STANDARD
TZOFFSETFROM:+0200
TZOFFSETTO:+0100
TZNAME:CET
DTSTART:20251026T010000
END:STANDARD
BEGIN:DAYLIGHT
TZOFFSETFROM:+0100
TZOFFSETTO:+0200
TZNAME:CEST
DTSTART:20260329T010000
END:DAYLIGHT
BEGIN:STANDARD
TZOFFSETFROM:+0200
TZOFFSETTO:+0100
TZNAME:CET
DTSTART:20261025T010000
END:STANDARD
END:VTIMEZONE
BEGIN:VEVENT
DTSTART;TZID=Europe/Berlin:20250908T110000
DTEND;TZID=Europe/Berlin:20250908T180000
DTSTAMP:20260421T210345
CREATED:20250412T093356Z
LAST-MODIFIED:20251121T101729Z
UID:431-1757329200-1757354400@schreib-salon.com
SUMMARY:IM SEPTEMBER GEHT ES WEITER! HIER EINE ÜBERSICHT
DESCRIPTION:Am 30. Juni wurde der Schreib- und Büchersalon in der Breiten Straße 81 beendet. \nDie gute Nachricht: Die Schreibkurse laufen weiter! \nFolgende Kurse biete ich ab 8. September bis zum 11. Dezember 2025 an: \n\nBiografisches Schreiben als Schatzsuche – Kurs A\, Ort: Schlutup. Ab Montag\, den 8. September\, 16 – 18 Uhr\, alle 14 Tage\nEigene Texte verbessern; Anmeldung über die Seniorenakademie\, Ort: Marienwerkhaus.                                                                                                                   Ab Dienstag\, den 9. September\, 14.45-16.15 Uhr\, alle 14 Tage\nEigene Texte bearbeiten\, ein weiterführender Kurs. Ab 10. September\, 11:00 – 13:00 Uhr; ausgebucht)\nStärkende Schreiberfahrung Anmeldung über das Ev. Frauenwerk\, Ort: Breite Straße 17.                                                                                                                   Ab Donnerstag\, den 11. September\, 11 – 13 Uhr\, alle 14 Tage\nBiografisches Schreiben\, ein weiterführender Kurs. Ab 11. September\, 16:30 – 18:30 Uhr; ausgebucht\, Ort: Schlutup)\nKreatives Schreiben Anmeldung über die Seniorenakademie\, Ort: Marienwerkhaus.                                                                                                                             Ab 16. September\, alle 14 Tage\, dienstags\, 14.45-16.15 Uhr\n\n 
URL:https://schreib-salon.com/event/im-september-geht-es-nach-einer-sommerpause-weiter/
END:VEVENT
END:VCALENDAR