BEGIN:VCALENDAR
VERSION:2.0
PRODID:-//Schreib- und B&uuml;chersalon - ECPv6.15.20//NONSGML v1.0//EN
CALSCALE:GREGORIAN
METHOD:PUBLISH
X-ORIGINAL-URL:https://schreib-salon.com
X-WR-CALDESC:Veranstaltungen für Schreib- und B&uuml;chersalon
REFRESH-INTERVAL;VALUE=DURATION:PT1H
X-Robots-Tag:noindex
X-PUBLISHED-TTL:PT1H
BEGIN:VTIMEZONE
TZID:Europe/Berlin
BEGIN:DAYLIGHT
TZOFFSETFROM:+0100
TZOFFSETTO:+0200
TZNAME:CEST
DTSTART:20230326T010000
END:DAYLIGHT
BEGIN:STANDARD
TZOFFSETFROM:+0200
TZOFFSETTO:+0100
TZNAME:CET
DTSTART:20231029T010000
END:STANDARD
BEGIN:DAYLIGHT
TZOFFSETFROM:+0100
TZOFFSETTO:+0200
TZNAME:CEST
DTSTART:20240331T010000
END:DAYLIGHT
BEGIN:STANDARD
TZOFFSETFROM:+0200
TZOFFSETTO:+0100
TZNAME:CET
DTSTART:20241027T010000
END:STANDARD
BEGIN:DAYLIGHT
TZOFFSETFROM:+0100
TZOFFSETTO:+0200
TZNAME:CEST
DTSTART:20250330T010000
END:DAYLIGHT
BEGIN:STANDARD
TZOFFSETFROM:+0200
TZOFFSETTO:+0100
TZNAME:CET
DTSTART:20251026T010000
END:STANDARD
END:VTIMEZONE
BEGIN:VEVENT
DTSTART;TZID=Europe/Berlin:20240910T150000
DTEND;TZID=Europe/Berlin:20241203T163000
DTSTAMP:20260424T121952
CREATED:20240705T084705Z
LAST-MODIFIED:20241114T115428Z
UID:308-1725980400-1733243400@schreib-salon.com
SUMMARY:EINFACH SCHREIBEN: Was mein Leben reicher macht
DESCRIPTION:Die schönste Rubrik in der Wochenzeitig DIE ZEIT steht auf der letzten Seite: „Was mein Leben reicher macht“. Diese kleinen Geschichten lese ich zu gerne! \nInspiriert von Erlebnissen des Alltags\, wollen wir mit dem Stift in der Hand schreibend erzählen\, was uns bereichert: Beglückendes und manchmal auch Bedrückendes. Alles hat das Potential\, uns zu bereichern. \nDienstags\, 15:00 – 16:30 Uhr\, 14-tägl. 10.09. – 03.12.2024 \nAnmeldung über die Seniorenakademie zu St. Marien\, Lübeck. Dort können auch die Kosten erfragt werden. \nTel: 0451-76331 oder \nseniorenakademie@st-marien-luebeck.de
URL:https://schreib-salon.com/event/einfach-schreiben-was-mein-leben-reicher-macht/
LOCATION:Schreib- und Büchersalon\, Breite Straße 81\, ÜBERGANGSRAUM\, Lübeck\, 23552
ORGANIZER;CN="SAK Seniorenakademie L%C3%BCbeck an St. Marien":MAILTO:seniorenakademie@st-marien-luebeck.de
END:VEVENT
BEGIN:VEVENT
DTSTART;TZID=Europe/Berlin:20240912T160000
DTEND;TZID=Europe/Berlin:20241205T180000
DTSTAMP:20260424T121952
CREATED:20240705T080711Z
LAST-MODIFIED:20240910T184649Z
UID:299-1726156800-1733421600@schreib-salon.com
SUMMARY:BIOGRAFISCHES SCHREIBEN UND LESEN. Kurs C: Mein buntes Leben
DESCRIPTION:BIOGRAFISCHES SCHREIBEN UND LESEN \nTermine Kurs C: Mein buntes Leben \nNachdem wir uns mit unseren Großeltern (Kurs A)\, dann mit den Eltern und ihrer Geschichte beschäftigt haben (Kurs B)\, wenden wir uns jetzt unserem eigenen Leben zu. Wir schreiben die Erinnerungen auf\, die wir als prägend erlebt haben und gestalten sie kreativ zu einem Buch – für uns selbst zur Freude. \nAußerdem sucht sich jede Teilnehmer:in eine Autobiografie aus und stellt sie der Gruppe vor. Das Lesen und Schreiben erweitert unseren eigenen Stil. \nDonnerstags alle 14 Tage\, 7 Treffen\, Kosten: 70 – 100 Euro\, in Raten zahlbar \n12.09. – 05.12.2024\, 16:00 – 18:00 Uhr
URL:https://schreib-salon.com/event/biografisches-schreiben-und-lesen-kurs-c-mein-buntes-leben/
ORGANIZER;CN="Schreib- und B%C3%BCchersalon":MAILTO:schreib-salon@posteo.de
END:VEVENT
BEGIN:VEVENT
DTSTART;TZID=Europe/Berlin:20241202T170000
DTEND;TZID=Europe/Berlin:20241202T190000
DTSTAMP:20260424T121952
CREATED:20240705T090107Z
LAST-MODIFIED:20241113T124250Z
UID:315-1733158800-1733166000@schreib-salon.com
SUMMARY:LITERATURTREFFEN IM SCHREIB- und BÜCHERSALON (jeden ersten Montag im Monat)
DESCRIPTION:Jeden 1. Montag im Monat treffen wir uns zu einem Austausch über Literatur. \nHerzlich willkommen sind alle Menschen\, die Lust darauf haben\, über Literatur zu sprechen. Die Bücher wählen wir gemeinsam aus. \nAlle Termine in diesem Jahr: \n2. September (Die Mitternachtsbibliothek von Matt Haig)\, \n7. Oktober (Die Zeit der Glühwürmchen von Patricia Koelle)\, \n4. November (Über Menschen von Juli Zeh)\, \n2. Dezember (Das glückliche Geheimnis von Arno Geiger) \n17:00 – 19:00 Uhr \nKosten entstehen keine\, da wir alle zum Gelingen beitragen. Für die Getränke bitte ich um einen Beitrag.
URL:https://schreib-salon.com/event/literaturtreffen-im-schreib-und-buechersalon-jeden-ersten-montag-im-monat/
LOCATION:Schreib- und Büchersalon\, Breite Straße 81\, ÜBERGANGSRAUM\, Lübeck\, 23552
ORGANIZER;CN="Schreib- und B%C3%BCchersalon":MAILTO:schreib-salon@posteo.de
END:VEVENT
END:VCALENDAR