BEGIN:VCALENDAR
VERSION:2.0
PRODID:-//Schreib- und B&uuml;chersalon - ECPv6.15.20//NONSGML v1.0//EN
CALSCALE:GREGORIAN
METHOD:PUBLISH
X-ORIGINAL-URL:https://schreib-salon.com
X-WR-CALDESC:Veranstaltungen für Schreib- und B&uuml;chersalon
REFRESH-INTERVAL;VALUE=DURATION:PT1H
X-Robots-Tag:noindex
X-PUBLISHED-TTL:PT1H
BEGIN:VTIMEZONE
TZID:Europe/Berlin
BEGIN:DAYLIGHT
TZOFFSETFROM:+0100
TZOFFSETTO:+0200
TZNAME:CEST
DTSTART:20240331T010000
END:DAYLIGHT
BEGIN:STANDARD
TZOFFSETFROM:+0200
TZOFFSETTO:+0100
TZNAME:CET
DTSTART:20241027T010000
END:STANDARD
BEGIN:DAYLIGHT
TZOFFSETFROM:+0100
TZOFFSETTO:+0200
TZNAME:CEST
DTSTART:20250330T010000
END:DAYLIGHT
BEGIN:STANDARD
TZOFFSETFROM:+0200
TZOFFSETTO:+0100
TZNAME:CET
DTSTART:20251026T010000
END:STANDARD
BEGIN:DAYLIGHT
TZOFFSETFROM:+0100
TZOFFSETTO:+0200
TZNAME:CEST
DTSTART:20260329T010000
END:DAYLIGHT
BEGIN:STANDARD
TZOFFSETFROM:+0200
TZOFFSETTO:+0100
TZNAME:CET
DTSTART:20261025T010000
END:STANDARD
END:VTIMEZONE
BEGIN:VEVENT
DTSTART;TZID=Europe/Berlin:20250204T150000
DTEND;TZID=Europe/Berlin:20250415T163000
DTSTAMP:20260422T062017
CREATED:20241114T120524Z
LAST-MODIFIED:20250225T095040Z
UID:388-1738681200-1744734600@schreib-salon.com
SUMMARY:EINFACH SCHREIBEN
DESCRIPTION:KREATIVES SCHREIBEN\nEin Mensch\, der gerne schreiben wollte\, \nfragt hier und da\, ob er es sollte \nund findet nun ein Angebot – \nganz frei und heiter nach Eugen Roth. \nWir wollen mit kleinen Texten den allzu menschlichen Charaktereigenschaften auf die Spur kommen\, in dem wir in Cafés oder der Fußgängerzone Menschen beobachten und fiktive Geschichten über sie schreiben. Das Vergnügen und die Menschenliebe eines Eugen Roths oder Loriots alias Viktor von Bülows werden uns inspirieren. \nAnmeldung und Bezahlung über die Seniorenakademie: Tel. 0451-76331 oder \nseniorenakademie@st-marien-luebeck.de \nDienstags\, 04.02. – 15.04.2025\, 15:00 – 16:30 Uhr 6 Treffen\, alle 14 Tage \nAb 3 bis max. 10 Teilnehmenden
URL:https://schreib-salon.com/event/einfach-schreiben-2/
LOCATION:Schreib- und Büchersalon\, Breite Straße 81\, ÜBERGANGSRAUM\, Lübeck\, 23552
ORGANIZER;CN="SAK Seniorenakademie L%C3%BCbeck an St. Marien":MAILTO:seniorenakademie@st-marien-luebeck.de
END:VEVENT
END:VCALENDAR