BEGIN:VCALENDAR
VERSION:2.0
PRODID:-//Schreib- und B&uuml;chersalon - ECPv6.15.20//NONSGML v1.0//EN
CALSCALE:GREGORIAN
METHOD:PUBLISH
X-ORIGINAL-URL:https://schreib-salon.com
X-WR-CALDESC:Veranstaltungen für Schreib- und B&uuml;chersalon
REFRESH-INTERVAL;VALUE=DURATION:PT1H
X-Robots-Tag:noindex
X-PUBLISHED-TTL:PT1H
BEGIN:VTIMEZONE
TZID:Europe/Berlin
BEGIN:DAYLIGHT
TZOFFSETFROM:+0100
TZOFFSETTO:+0200
TZNAME:CEST
DTSTART:20240331T010000
END:DAYLIGHT
BEGIN:STANDARD
TZOFFSETFROM:+0200
TZOFFSETTO:+0100
TZNAME:CET
DTSTART:20241027T010000
END:STANDARD
BEGIN:DAYLIGHT
TZOFFSETFROM:+0100
TZOFFSETTO:+0200
TZNAME:CEST
DTSTART:20250330T010000
END:DAYLIGHT
BEGIN:STANDARD
TZOFFSETFROM:+0200
TZOFFSETTO:+0100
TZNAME:CET
DTSTART:20251026T010000
END:STANDARD
BEGIN:DAYLIGHT
TZOFFSETFROM:+0100
TZOFFSETTO:+0200
TZNAME:CEST
DTSTART:20260329T010000
END:DAYLIGHT
BEGIN:STANDARD
TZOFFSETFROM:+0200
TZOFFSETTO:+0100
TZNAME:CET
DTSTART:20261025T010000
END:STANDARD
END:VTIMEZONE
BEGIN:VEVENT
DTSTART;TZID=Europe/Berlin:20250108T103000
DTEND;TZID=Europe/Berlin:20250402T123000
DTSTAMP:20260422T111056
CREATED:20240705T083044Z
LAST-MODIFIED:20250107T154045Z
UID:302-1736332200-1743597000@schreib-salon.com
SUMMARY:MEINE TEXTE BEARBEITEN
DESCRIPTION:Gemeinsam den eigenen Schreibstil verbessern\nViele von uns haben Texte in der Schublade aufbewahrt und wollten sie schon immer mal in Form bringen. Hier ist die Gelegenheit\, die Texte vorzustellen! \nDie Gruppe gibt ein wohlwollendes Feedback und Ideen zur Verbesserung von Stil und Inhalt. Jede und jeder entscheidet\, was sie oder er annehmen möchte. \nWir lernen stilistische Kriterien kennen\, lernen genau hinzuhören auf die Sprache und Wirkung des Textes. \nDie eigene\, besondere Sprachstimme zu finden\, ist Ziel dieses Kurses. \nMittwochs alle 14 Tage\, 7 Treffen\, 10:30 – 12:30 Uhr\n08.01. – 02.04.2025\nKosten: 100 – 120 Euro\, in Raten zahlbar\nAb 3 Teilnehmenden findet der Kurs statt\n 
URL:https://schreib-salon.com/event/meine-texte-bearbeiten-gemeinsam-den-eigenen-schreibstil-verbessern/
LOCATION:Schreib- und Büchersalon\, Breite Straße 81\, ÜBERGANGSRAUM\, Lübeck\, 23552
ORGANIZER;CN="Schreib- und B%C3%BCchersalon":MAILTO:schreib-salon@posteo.de
END:VEVENT
END:VCALENDAR