BEGIN:VCALENDAR
VERSION:2.0
PRODID:-//Schreib- und B&uuml;chersalon - ECPv6.15.20//NONSGML v1.0//EN
CALSCALE:GREGORIAN
METHOD:PUBLISH
X-WR-CALNAME:Schreib- und B&uuml;chersalon
X-ORIGINAL-URL:https://schreib-salon.com
X-WR-CALDESC:Veranstaltungen für Schreib- und B&uuml;chersalon
REFRESH-INTERVAL;VALUE=DURATION:PT1H
X-Robots-Tag:noindex
X-PUBLISHED-TTL:PT1H
BEGIN:VTIMEZONE
TZID:Europe/Berlin
BEGIN:DAYLIGHT
TZOFFSETFROM:+0100
TZOFFSETTO:+0200
TZNAME:CEST
DTSTART:20230326T010000
END:DAYLIGHT
BEGIN:STANDARD
TZOFFSETFROM:+0200
TZOFFSETTO:+0100
TZNAME:CET
DTSTART:20231029T010000
END:STANDARD
BEGIN:DAYLIGHT
TZOFFSETFROM:+0100
TZOFFSETTO:+0200
TZNAME:CEST
DTSTART:20240331T010000
END:DAYLIGHT
BEGIN:STANDARD
TZOFFSETFROM:+0200
TZOFFSETTO:+0100
TZNAME:CET
DTSTART:20241027T010000
END:STANDARD
BEGIN:DAYLIGHT
TZOFFSETFROM:+0100
TZOFFSETTO:+0200
TZNAME:CEST
DTSTART:20250330T010000
END:DAYLIGHT
BEGIN:STANDARD
TZOFFSETFROM:+0200
TZOFFSETTO:+0100
TZNAME:CET
DTSTART:20251026T010000
END:STANDARD
END:VTIMEZONE
BEGIN:VEVENT
DTSTART;TZID=Europe/Berlin:20240508T110000
DTEND;TZID=Europe/Berlin:20240703T123000
DTSTAMP:20260425T133804
CREATED:20240219T121902Z
LAST-MODIFIED:20240628T133247Z
UID:164-1715166000-1720009800@schreib-salon.com
SUMMARY:EINFACH SCHREIBEN (5 Schreibtreffen am Mittwochvormittag\, 14-tägig)
DESCRIPTION:Schon lange suchen Sie Anregungen zum Schreiben\, ein Schreiben für das eigene Wohlbefinden? Dann sind Sie hier richtig! \nWir bewerten nichts\, schreiben über lustige Begebenheiten aus unserem Alltag oder denken uns Geschichten aus. \nAb dem 8. Mai möchte ich einen Schreibkurs EINFACH SCHREIBEN anbieten. \nWir treffen uns 14-tägig an fünf Vormittagen von 11:00 bis 12:30 Uhr: 8. und 22. Mai\, 5. und 19. Juni und 3. Juli. \nDer gesamte Kurs mit den 5 Schreibtreffen kostet 50\,00 Euro. \nMit und ohne Schreiberfahrung sind alle herzlich willkommen\, die Lust haben\, mit Worten zu spielen. \nAb 3 und bis maximal 9 Teilnehmenden findet der Kurs statt.
URL:https://schreib-salon.com/event/lyrik-prosa/
LOCATION:Schreib- und Büchersalon\, Breite Straße 81\, ÜBERGANGSRAUM\, Lübeck\, 23552
ORGANIZER;CN="Schreib- und B%C3%BCchersalon":MAILTO:schreib-salon@posteo.de
END:VEVENT
BEGIN:VEVENT
DTSTART;TZID=Europe/Berlin:20240514T150000
DTEND;TZID=Europe/Berlin:20240625T163000
DTSTAMP:20260425T133804
CREATED:20240219T121047Z
LAST-MODIFIED:20240628T133319Z
UID:161-1715698800-1719333000@schreib-salon.com
SUMMARY:Kreatives Schreiben mit allen Sinnen (jeden Dienstag)
DESCRIPTION:Bei dem Schreiben mit allen Sinnen werden wir ab dem 14. Mai jeden Dienstag einen der Sinne aussuchen\, um Texte zu erfinden. \nEs wird ein geselliges\, fröhliches Schreiben und macht glücklich! \nAm 11. Juni wird es nicht stattfinden. \nJedes Treffen ist einzeln buchbar und kostet 10 Euro. Nach 4 Buchungen ist die nächste kostenlos! \nMelden Sie sich telefonisch (0151-18317841) oder per Mail (schreib-salon@posteo.de) bis zu 24 Stunden vorher an. \nAb 3 bis zu 9 Teilnehmenden findet der Kurs statt. Dann bekommen Sie eine Bestätigungsmail.
URL:https://schreib-salon.com/event/kreatives-schreiben-mit-allen-sinnen/
LOCATION:Schreib- und Büchersalon\, Breite Straße 81\, ÜBERGANGSRAUM\, Lübeck\, 23552
ORGANIZER;CN="Schreib- und B%C3%BCchersalon":MAILTO:schreib-salon@posteo.de
END:VEVENT
BEGIN:VEVENT
DTSTART;TZID=Europe/Berlin:20240516T170000
DTEND;TZID=Europe/Berlin:20240718T190000
DTSTAMP:20260425T133804
CREATED:20240321T114544Z
LAST-MODIFIED:20240628T133502Z
UID:231-1715878800-1721329200@schreib-salon.com
SUMMARY:Studiengruppe Biografisches Schreiben und Lesen (Kurs B\, 5 Schreibtreffen: Geschichten aus dem Leben meiner Eltern)
DESCRIPTION:Der Lebensrückblick in schriftlicher Form hat eine lange Geschichte und erfährt zurzeit ein großes Interesse\, sei es als persönliche Stärkung oder als eine  Möglichkeit\, den Nachkommen das eigene Leben näher zu bringen. \nIn diesem Kurs wollen wir die Formen des Biografischen Schreibens an literarischen Vorbildern erarbeiten und entsprechend selbst ausprobieren. Es geht um Stilmittel\, um Spannungsbögen\, um Einstiege und auch\, wie wir mit Schreibblockaden umgehen können. \nDieser Kurs richtet sich an Menschen\, die ein autobiografisches Schreibprojekt planen oder mitten drin sind und weitere Anregungen erhalten möchten. \nBei der Vorstellung am 29. Februar wurde deutlich\, dass jeweils 5 Treffen mit unterschiedlichen Schwerpunkten sinnvoll sind. Im Kurs A beschäftigten wir uns mit unseren Großeltern. In diesem Kurs B schauen wir Geschichten aus dem Leben unserer Eltern an. \nJeder 5-er-Block ist einzeln buchbar. \nDie Termine für Kurs B: Geschichten aus dem Leben meiner Eltern: 16.05. / 30.05. / 06.06. / 20.06. / 04.07./ 18.07. \nKosten pro Kurs: 50\,00 Euro \nAnmeldung per E-Mail an schreib-salon@posteo.de \nDer Kurs findet ab 3 bis maximal 9 Teilnehmenden statt. \nEs wird nach den Sommerferien einen weiteren Kurs „Biografisches Schreiben und Lesen“ mit dem Schwerpunkt auf das eigene Leben geben.
URL:https://schreib-salon.com/event/studiengruppe-biografisches-schreiben-und-lesen-kurs-b-geschichten-aus-meinem-leben/
LOCATION:Schreib- und Büchersalon\, Breite Straße 81\, ÜBERGANGSRAUM\, Lübeck\, 23552
ORGANIZER;CN="Schreib- und B%C3%BCchersalon":MAILTO:schreib-salon@posteo.de
END:VEVENT
END:VCALENDAR